BEGIN:VCALENDAR
VERSION:2.0
PRODID:-// - ECPv6.5.1.6//NONSGML v1.0//EN
CALSCALE:GREGORIAN
METHOD:PUBLISH
X-ORIGINAL-URL:https://pablobango.com
X-WR-CALDESC:Eventos para 
REFRESH-INTERVAL;VALUE=DURATION:PT1H
X-Robots-Tag:noindex
X-PUBLISHED-TTL:PT1H
BEGIN:VTIMEZONE
TZID:UTC
BEGIN:STANDARD
TZOFFSETFROM:+0000
TZOFFSETTO:+0000
TZNAME:UTC
DTSTART:20240101T000000
END:STANDARD
END:VTIMEZONE
BEGIN:VEVENT
DTSTART;TZID=UTC:20240803T230000
DTEND;TZID=UTC:20240803T230000
DTSTAMP:20260421T133733
CREATED:20240713T205912Z
LAST-MODIFIED:20240713T214359Z
UID:727-1722726000-1722726000@pablobango.com
SUMMARY:Festival de Tapia
DESCRIPTION:Soul Dream se presenta por primera vez en vivo\, la noche del sábado 3 de agosto\, en el corazón del Festival Intercéltico de Occidente. \nPreparaos para un concierto donde los temas del disco cobrarán vida y estrenaremos piezas inéditas que seguro os sorprenderán.  Y para hacer la noche aún más inolvidable\, contaremos con la colaboración de una voz extraordinaria… \nEl FID’O es un evento destacado en la escena celta internacional que tiene lugar anualmente en Tapia de Casariego\, Asturias\, cada agosto. Uno de los aspectos más mágicos del FID’O es su escenario en la playa del Murallón\, con el mar como telón de fondo\, proporcionando una experiencia acústica inmejorable y una vista impresionante desde cualquier punto de la playa.
URL:https://pablobango.com/event/festival-de-tapia/
LOCATION:Tapia\, Tapia de Casariego\, Asturias\, España
ATTACH;FMTTYPE=image/jpeg:https://pablobango.com/wp-content/uploads/2024/07/Imagen-de-WhatsApp-2024-07-13-a-las-22.51.31_75bf6133-scaled.jpg
END:VEVENT
BEGIN:VEVENT
DTSTART;TZID=UTC:20241027T190000
DTEND;TZID=UTC:20241027T220000
DTSTAMP:20260421T133733
CREATED:20241130T122501Z
LAST-MODIFIED:20241130T131809Z
UID:1081-1730055600-1730066400@pablobango.com
SUMMARY:Concierto Sinfónico Medieval
DESCRIPTION:En el Nuevo Teatro de la Felguera\, justo a la Orquesta de Cámara de Siero (OCAS)\, el multistrumentista Héctor Braga y el Coro Voces Blancas del Nalón. \n 
URL:https://pablobango.com/event/concierto-sinfonico-medieval/
ATTACH;FMTTYPE=image/jpeg:https://pablobango.com/wp-content/uploads/2024/11/464378766_18461408719022500_8440979392512417199_n.jpg
END:VEVENT
BEGIN:VEVENT
DTSTART;TZID=UTC:20260517T190000
DTEND;TZID=UTC:20260517T203000
DTSTAMP:20260421T133733
CREATED:20260416T130255Z
LAST-MODIFIED:20260416T131418Z
UID:1143-1779044400-1779049800@pablobango.com
SUMMARY:CONCIERTO PRESENTACIÓN DISCO - Teatro Auditorio de Siero
DESCRIPTION:BANGO es el proyecto musical liderado por Pablo Bango\, gaitero\, multiinstrumentista y compositor asturiano\, que ha logrado fusionar con la música celta estilos como el hip hop\, el new age y la música sinfónica.\nVoces\, flautas\, gaitas y percusiones conviven con texturas electrónicas\, ritmos tribales y armonías sinfónicas\, dando vida a un sonido que emociona\, inspira y conecta con lo ancestral.\nEl resultado es un espectáculo hipnótico y épico\, donde luz y oscuridad\, raíz y modernidad se funden en una experiencia que despierta lo ancestral y recuerda\, a través de la música\, quiénes fuimos… y hacia dónde vamos.
URL:https://pablobango.com/event/concierto-teatro-auditorio-de-siero/
ATTACH;FMTTYPE=image/png:https://pablobango.com/wp-content/uploads/2026/02/17-MAYO-ASTURIAS.png
END:VEVENT
END:VCALENDAR